BEGIN:VCALENDAR
X-WR-TIMEZONE:Europe/Berlin
X-WR-CALNAME:rbb-Kalender
VERSION:2.0
METHOD:PUBLISH
CALSCALE:GREGORIAN
PRODID:rbb-CMS DAY
BEGIN:VEVENT
CLASS:PUBLIC
URL:http://www.rbb-online.de/content/rbb/rbb/brandenburgaktuell/serien/vorgestellt/vorgestell-kai-noack.html
DTEND:20131223T200000
DTSTART:20131223T193000
UID:/content/rbb/rbb/brandenburgaktuell/serien/vorgestellt/vorgestell-kai-noack
DTSTAMP:20140405T112442
DESCRIPTION:Kai Noack leitet seit drei Jahren a­cht Tafelprojekte des Albert Schweizer Familienwerks. Der studierte Sozialpädagoge ist immer im ganzen Land unterwegs und mitten drin. Er besorgt Lebensmittel, führt Mitarbeitergespräche und, ganz wichtig: Er ist Ansprechpartner und Problemlöser für die Tafelbesucher - das liegt ihm besonders am Herzen.\n
SUMMARY:Vorgestellt: Tafelbetreiber Kai Noack
END:VEVENT
END:VCALENDAR
