BEGIN:VCALENDAR
X-WR-TIMEZONE:Europe/Berlin
X-WR-CALNAME:rbb-Kalender
VERSION:2.0
METHOD:PUBLISH
CALSCALE:GREGORIAN
PRODID:rbb-CMS DAY
BEGIN:VEVENT
CLASS:PUBLIC
URL:http://www.rbb-online.de/content/rbb/rbb/brandenburgaktuell/serien/vorgestellt/vorgestell-sabine-schloesser-ballettlehrerin.html
DTEND:20131209T200000
DTSTART:20131209T193000
UID:/content/rbb/rbb/brandenburgaktuell/serien/vorgestellt/vorgestell-sabine-schloesser-ballettlehrerin
DTSTAMP:20140405T112337
DESCRIPTION:Sabine Schlösser leitet seit mehr als zwanzig Jahren eine Ballett- und Tanzschule in Erkner. Für ihre großen und kleinen Schüler ist sie ein Vorbild. Alle zwei Jahre bringt die Ballettlehrerin eine umfangreiche Inszenierung auf die Bühne, in diesem Jahr ein Tanzmärchen mit 188 Mitwirkenden. Dieses Mammut-Projekt stemmt die ehemalige Berufstänzerin bereits zum achten Mal.\n
SUMMARY:Vorgestellt: Sabine Schlösser, Ballettlehrerin
END:VEVENT
END:VCALENDAR
