BEGIN:VCALENDAR
X-WR-TIMEZONE:Europe/Berlin
X-WR-CALNAME:rbb-Kalender
VERSION:2.0
METHOD:PUBLISH
CALSCALE:GREGORIAN
PRODID:rbb-CMS DAY
BEGIN:VEVENT
CLASS:PUBLIC
URL:http://www.rbb-online.de/content/rbb/rbb/brandenburgaktuell/serien/vorgestellt/vorgestellt-anita-sach.html
DTEND:20131125T200000
DTSTART:20131125T193000
UID:/content/rbb/rbb/brandenburgaktuell/serien/vorgestellt/vorgestellt-anita-sach
DTSTAMP:20140405T112528
DESCRIPTION:In unserer Montags-Serie stellen wir heute die Ärztin Anita Šach aus Falkensee vor. Deren Engagement reicht weit über die Türen der eigenen Praxis hinaus aus. Mal ist sie mit der Nordic Walking-Gruppe unterwegs, vor allem aber leitet sie gleich mehrere Herzsportgruppen.\n\n\n
SUMMARY:Vorgestellt Anita Šach
END:VEVENT
END:VCALENDAR
