BEGIN:VCALENDAR
X-WR-TIMEZONE:Europe/Berlin
X-WR-CALNAME:rbb-Kalender
VERSION:2.0
METHOD:PUBLISH
CALSCALE:GREGORIAN
PRODID:rbb-CMS DAY
BEGIN:VEVENT
CLASS:PUBLIC
URL:http://www.rbb-online.de/content/rbb/rbb/brandenburgaktuell/serien/vorgestellt/vorgestellt-cornelius-kusch.html
DTEND:20130902T200000
DTSTART:20130902T193000
UID:/content/rbb/rbb/brandenburgaktuell/serien/vorgestellt/vorgestellt-cornelius-kusch
DTSTAMP:20140405T112500
DESCRIPTION:In unserer Serie "Vorgestellt" zeigen wir regelmäßig interessante und engagierte Brandenburger. Am Montag berichten wir über Cornelius Kusch aus Dissen. Er ist Museumspädagoge im  dortigen Heimatmuseum.\n\n\n
SUMMARY:Vorgestellt: Cornelius Kusch
END:VEVENT
END:VCALENDAR
