BEGIN:VCALENDAR
X-WR-TIMEZONE:Europe/Berlin
X-WR-CALNAME:rbb-Kalender
VERSION:2.0
METHOD:PUBLISH
CALSCALE:GREGORIAN
PRODID:rbb-CMS DAY
BEGIN:VEVENT
CLASS:PUBLIC
URL:http://www.rbb-online.de/content/rbb/rbb/brandenburgaktuell/serien/vorgestellt/vorgestellt-hans-andreas-der-hoelschebure.html
DTEND:20131118T200000
DTSTART:20131118T193000
UID:/content/rbb/rbb/brandenburgaktuell/serien/vorgestellt/vorgestellt-hans-andreas-der-hoelschebure
DTSTAMP:20140405T112419
DESCRIPTION:Hans Andreas aus Alt Tucheband ist Musiker, Mentor und Bewahrer traditioneller Musik. In der Region kennt man ihn als "Der Hölschebure". Seit 17 Jahren tritt er ehrenamtlich mit seinem Akkordeon auf, oft zusammen mit seiner Mundharmonikagruppe.\n
SUMMARY:Vorgestellt: Hans Andreas
END:VEVENT
END:VCALENDAR
