BEGIN:VCALENDAR
X-WR-TIMEZONE:Europe/Berlin
X-WR-CALNAME:rbb-Kalender
VERSION:2.0
METHOD:PUBLISH
CALSCALE:GREGORIAN
PRODID:rbb-CMS DAY
BEGIN:VEVENT
CLASS:PUBLIC
URL:http://www.rbb-online.de/content/rbb/rbb/brandenburgaktuell/serien/vorgestellt/vorgestellt-heinz-werner-knackmuss.html
DTEND:20140224T200000
DTSTART:20140224T193000
UID:/content/rbb/rbb/brandenburgaktuell/serien/vorgestellt/vorgestellt-heinz-werner-knackmuss
DTSTAMP:20140405T112402
DESCRIPTION:In unserer Serie stellen wir diesmal Heinz-Walter Knackmuß vor. Der 69-Jährige weiß, wie man Spitzbögen mauert, er kann singen und erledigt gern Papierkram. Der Rathenower hat viele Talente - aber nur eine Leidenschaft.\n\n\n
SUMMARY:Vorgestellt: Heinz-Walter Knackmuß
END:VEVENT
END:VCALENDAR
