BEGIN:VCALENDAR
X-WR-TIMEZONE:Europe/Berlin
X-WR-CALNAME:rbb-Kalender
VERSION:2.0
METHOD:PUBLISH
CALSCALE:GREGORIAN
PRODID:rbb-CMS DAY
BEGIN:VEVENT
CLASS:PUBLIC
URL:http://www.rbb-online.de/content/rbb/rbb/brandenburgaktuell/serien/vorgestellt/vorgestellt-margot-wendland.html
DTEND:20131216T200000
DTSTART:20131216T193000
UID:/content/rbb/rbb/brandenburgaktuell/serien/vorgestellt/vorgestellt-margot-wendland
DTSTAMP:20140405T112319
DESCRIPTION:Margot Wendland ist durch und durch Tierfreundin. Seit 20 Jahren leitet sie das Tierheim Märkisch Buchholz - und das auch noch in Vollzeit und ehrenamtlich. Die gelernte Tierzüchterin und ehemalige Lehrerin kümmert sich um alles von der Tierpflege über die Vermittlung bis zur Verwaltung.\n\n\n
SUMMARY:Vorgestellt: Margot Wendland, Tierheim-Betreiberin
END:VEVENT
END:VCALENDAR
