BEGIN:VCALENDAR
X-WR-TIMEZONE:Europe/Berlin
X-WR-CALNAME:rbb-Kalender
VERSION:2.0
METHOD:PUBLISH
CALSCALE:GREGORIAN
PRODID:rbb-CMS DAY
BEGIN:VEVENT
CLASS:PUBLIC
URL:http://www.rbb-online.de/content/rbb/rbb/brandenburgaktuell/serien/vorgestellt/vorgestellt-nico-gaertner.html
DTEND:20131104T200000
DTSTART:20131104T193000
UID:/content/rbb/rbb/brandenburgaktuell/serien/vorgestellt/vorgestellt-nico-gaertner
DTSTAMP:20140405T112100
DESCRIPTION:Der Cottbuser Nico Gärtner gehört zu Deutschlands besten Trampolinturnern. Er geht bei der WM in Sofia an den Start und wird danach seine Karriere beenden.\n\n\n
SUMMARY:Vorgestellt: Nico Gärtner
END:VEVENT
END:VCALENDAR
