BEGIN:VCALENDAR
X-WR-TIMEZONE:Europe/Berlin
X-WR-CALNAME:rbb-Kalender
VERSION:2.0
METHOD:PUBLISH
CALSCALE:GREGORIAN
PRODID:rbb-CMS DAY
BEGIN:VEVENT
CLASS:PUBLIC
URL:http://www.rbb-online.de/content/rbb/rbb/buecherundmoor/archiv/buecher-moor-franz-muentefering/200-woerter-roman-marie-pohl.html
DTEND:20140102T234500
DTSTART:20140102T234500
UID:/content/rbb/rbb/buecherundmoor/archiv/buecher-moor-franz-muentefering/200-woerter-roman-marie-pohl
DTSTAMP:20140405T044710
DESCRIPTION:Es hatte alles so harmlos begonnen. Lothar W. biss an einem Sonntagmorgen in ein Mohnbrötchen. Sein Vorderzahn knackte und bröckelte trostlos in die Marmelade.\n
SUMMARY:Der Roman in 200 Wörtern von Marie Pohl
END:VEVENT
END:VCALENDAR
