BEGIN:VCALENDAR
X-WR-TIMEZONE:Europe/Berlin
X-WR-CALNAME:rbb-Kalender
VERSION:2.0
METHOD:PUBLISH
CALSCALE:GREGORIAN
PRODID:rbb-CMS DAY
BEGIN:VEVENT
CLASS:PUBLIC
URL:http://www.rbb-online.de/content/rbb/rbb/buecherundmoor/archiv/buecher-moor-franz-muentefering/sebastian-fitzek-michael-tsokos.html
DTEND:20140102T234500
DTSTART:20140102T234500
UID:/content/rbb/rbb/buecherundmoor/archiv/buecher-moor-franz-muentefering/sebastian-fitzek-michael-tsokos
DTSTAMP:20140405T044558
DESCRIPTION:Es ist schwer zu ertragen, was Sebastian Fitzek in seinem neuen Buch beschreibt – und doch kann man nicht aufhören es zu lesen. In seinem Psychothriller geht es um Mord, aufgeschnittene Leichen und vergewaltigte Töchter.\n
SUMMARY:Sebastian Fitzek und Michael Tsokos - Abgeschnitten
END:VEVENT
END:VCALENDAR
