BEGIN:VCALENDAR
X-WR-TIMEZONE:Europe/Berlin
X-WR-CALNAME:rbb-Kalender
VERSION:2.0
METHOD:PUBLISH
CALSCALE:GREGORIAN
PRODID:rbb-CMS DAY
BEGIN:VEVENT
CLASS:PUBLIC
URL:http://www.rbb-online.de/content/rbb/rbb/buecherundmoor/archiv/buecher-moor-maren-eggert/abbas-khider-brief-auberginenrepublik.html
DTEND:20140110T001500
DTSTART:20140110T001500
UID:/content/rbb/rbb/buecherundmoor/archiv/buecher-moor-maren-eggert/abbas-khider-brief-auberginenrepublik
DTSTAMP:20140405T044517
DESCRIPTION:Ein Brief spielt die Hauptrolle in Abbas Khiders neuem Roman. Ein junger Mann schreibt ihn Ende der 90er Jahre in Libyen. Über einen illegalen Briefweg schickt er ihn an seine Geliebte im Irak. Es ist ein abenteuerlicher Weg, bei dem der Leser bis zuletzt hofft, dass der Brief ankommt.\n
SUMMARY:Abbas Khider: "Brief in die Auberginenrepublik"
END:VEVENT
END:VCALENDAR
