BEGIN:VCALENDAR
X-WR-TIMEZONE:Europe/Berlin
X-WR-CALNAME:rbb-Kalender
VERSION:2.0
METHOD:PUBLISH
CALSCALE:GREGORIAN
PRODID:rbb-CMS DAY
BEGIN:VEVENT
CLASS:PUBLIC
URL:http://www.rbb-online.de/content/rbb/rbb/buecherundmoor/archiv/buecher-moor-ulrich-matthes.html
DTEND:20140313T224500
DTSTART:20140313T224500
UID:/content/rbb/rbb/buecherundmoor/archiv/buecher-moor-ulrich-matthes
DTSTAMP:20140405T044958
DESCRIPTION:Diesmal spricht Max Moor mit Ulrich Matthes: einem der besten deutschen Schauspieler – und Vorleser. Neben den großen Erfolgen auf der Bühne und im Film hat er mit seiner markanten Stimme viele Hörbücher geprägt. Was liest Ulrich Matthes privat, welche Bücher haben ihn beeindruckt?\n
SUMMARY:Bücher und Moor: Ulrich Matthes
END:VEVENT
END:VCALENDAR
