BEGIN:VCALENDAR
X-WR-TIMEZONE:Europe/Berlin
X-WR-CALNAME:rbb-Kalender
VERSION:2.0
METHOD:PUBLISH
CALSCALE:GREGORIAN
PRODID:rbb-CMS DAY
BEGIN:VEVENT
CLASS:PUBLIC
URL:http://www.rbb-online.de/content/rbb/rbb/derlangeweg/archiv/jutta-und-andre.html
DTEND:20140112T180000
DTSTART:20140112T180000
UID:/content/rbb/rbb/derlangeweg/archiv/jutta-und-andre
DTSTAMP:20140404T170917
DESCRIPTION:Im Sommer 1966 findet Jutta in einer Tafel Schokolade aus dem Intershop einen Zettel mit der Adresse eines holländischen Jungen. André, der damals bei einer holländischen Schokoladenfabrik arbeitet, hatte sich mit seinen Kollegen diesen Spaß gemacht – die berühmte Schokolade wurde in die ganze Welt verschickt.\n
SUMMARY:Der lange Weg zur großen Liebe (3)
END:VEVENT
END:VCALENDAR
