BEGIN:VCALENDAR
X-WR-TIMEZONE:Europe/Berlin
X-WR-CALNAME:rbb-Kalender
VERSION:2.0
METHOD:PUBLISH
CALSCALE:GREGORIAN
PRODID:rbb-CMS DAY
BEGIN:VEVENT
CLASS:PUBLIC
URL:http://www.rbb-online.de/content/rbb/rbb/derlangeweg/archiv/lange_weg_grosse_liebe.html
DTEND:20130624T110000
DTSTART:20130624T110000
UID:/content/rbb/rbb/derlangeweg/archiv/lange_weg_grosse_liebe
DTSTAMP:20140404T171215
DESCRIPTION:Der Film zeichnet die Wege dreier Liebespaare nach, die Grenzen und lange Zeitspannen überwinden mussten, um zueinander zu finden.\n
SUMMARY:Der lange Weg zur großen Liebe
END:VEVENT
END:VCALENDAR
