BEGIN:VCALENDAR
X-WR-TIMEZONE:Europe/Berlin
X-WR-CALNAME:rbb-Kalender
VERSION:2.0
METHOD:PUBLISH
CALSCALE:GREGORIAN
PRODID:rbb-CMS DAY
BEGIN:VEVENT
CLASS:PUBLIC
URL:http://www.rbb-online.de/content/rbb/rbb/derlangeweg/archiv/lange_weg_neuanfang.html
DTEND:20130617T110000
DTSTART:20130617T110000
UID:/content/rbb/rbb/derlangeweg/archiv/lange_weg_neuanfang
DTSTAMP:20140404T170858
DESCRIPTION:Eine Lebenskrise, plötzliche Arbeitslosigkeit, ein Job im Hamsterrad - es gibt unzählige Motive und Sehnsüchte, die Menschen dazu bringen, ihre gewohnten Bahnen zu verlassen. \n\n\n
SUMMARY:Der lange Weg zum Neuanfang
END:VEVENT
END:VCALENDAR
