BEGIN:VCALENDAR
X-WR-TIMEZONE:Europe/Berlin
X-WR-CALNAME:rbb-Kalender
VERSION:2.0
METHOD:PUBLISH
CALSCALE:GREGORIAN
PRODID:rbb-CMS DAY
BEGIN:VEVENT
CLASS:PUBLIC
URL:http://www.rbb-online.de/content/rbb/rbb/derlangeweg/archiv/lange_weg_traumberuf.html
DTEND:20130722T110000
DTSTART:20130722T110000
UID:/content/rbb/rbb/derlangeweg/archiv/lange_weg_traumberuf
DTSTAMP:20140404T171130
DESCRIPTION:Der Film begleitet vier Menschen auf dem Weg zum Traumberuf: den Musiker Maximilian Procop, die beiden Modedesigner Maria Poweleit und Jesko Wilke sowie die Tierärztin Sandra Höfer.
SUMMARY:Der lange Weg zum Traumberuf
END:VEVENT
END:VCALENDAR
