BEGIN:VCALENDAR
X-WR-TIMEZONE:Europe/Berlin
X-WR-CALNAME:rbb-Kalender
VERSION:2.0
METHOD:PUBLISH
CALSCALE:GREGORIAN
PRODID:rbb-CMS DAY
BEGIN:VEVENT
CLASS:PUBLIC
URL:http://www.rbb-online.de/content/rbb/rbb/derlangeweg/archiv/lisa-und-anatolij.html
DTEND:20131229T181000
DTSTART:20131229T181000
UID:/content/rbb/rbb/derlangeweg/archiv/lisa-und-anatolij
DTSTAMP:20140404T171222
DESCRIPTION:1961 wurden die DDR-Schülerin Lisa und der ukrainische Junge Anatolij - beide 17 - Brieffreunde. Sie kannten sich nur von Fotos und auf dem Papier.\n
SUMMARY:Der lange Weg zur großen Liebe (1)
END:VEVENT
END:VCALENDAR
