BEGIN:VCALENDAR
X-WR-TIMEZONE:Europe/Berlin
X-WR-CALNAME:rbb-Kalender
VERSION:2.0
METHOD:PUBLISH
CALSCALE:GREGORIAN
PRODID:rbb-CMS DAY
BEGIN:VEVENT
CLASS:PUBLIC
URL:http://www.rbb-online.de/content/rbb/rbb/doku/0-99/1000_jahre_knast_0.html
DTEND:20140428T221500
DTSTART:20140428T221500
UID:/content/rbb/rbb/doku/0-99/1000_jahre_knast_0
DTSTAMP:20140404T221918
DESCRIPTION:Die Dokumentation von Reinhard Schneider zeigt Momente des Gefängnisalltags und des Strafvollzugs. Zu Wort kommen Inhaftierte, Vollzugsbeamte und Psychologen.\n
SUMMARY:1000 Jahre Knast
END:VEVENT
END:VCALENDAR
