BEGIN:VCALENDAR
X-WR-TIMEZONE:Europe/Berlin
X-WR-CALNAME:rbb-Kalender
VERSION:2.0
METHOD:PUBLISH
CALSCALE:GREGORIAN
PRODID:rbb-CMS DAY
BEGIN:VEVENT
CLASS:PUBLIC
URL:http://www.rbb-online.de/content/rbb/rbb/doku/0-99/20x_brandenburg.html
DTEND:20130427T223500
DTSTART:20130427T223500
UID:/content/rbb/rbb/doku/0-99/20x_brandenburg
DTSTAMP:20140407T130810
DESCRIPTION:20 namhafte Dokumentaristen erzählen Geschichten über Brandenburg. 20 Filmteams drehten im Sommer 2010 an 20 verschiedenen Orten.
SUMMARY:20xBrandenburg
END:VEVENT
END:VCALENDAR
