BEGIN:VCALENDAR
X-WR-TIMEZONE:Europe/Berlin
X-WR-CALNAME:rbb-Kalender
VERSION:2.0
METHOD:PUBLISH
CALSCALE:GREGORIAN
PRODID:rbb-CMS DAY
BEGIN:VEVENT
CLASS:PUBLIC
URL:http://www.rbb-online.de/content/rbb/rbb/doku/16xdeutschland/archiv/niedersachsen.html
DTEND:20131110T000000
DTSTART:20131110T000000
UID:/content/rbb/rbb/doku/16xdeutschland/archiv/niedersachsen
DTSTAMP:20140405T183241
DESCRIPTION:Die Filmemacherin Rosa Hannah Ziegler lebt in Berlin, ist aber nirgends lieber als in ihrer niedersächsischen Heimat, im Wendland.\n
SUMMARY:Niedersachsen
END:VEVENT
END:VCALENDAR
