BEGIN:VCALENDAR
X-WR-TIMEZONE:Europe/Berlin
X-WR-CALNAME:rbb-Kalender
VERSION:2.0
METHOD:PUBLISH
CALSCALE:GREGORIAN
PRODID:rbb-CMS DAY
BEGIN:VEVENT
CLASS:PUBLIC
URL:http://www.rbb-online.de/content/rbb/rbb/doku/16xdeutschland/archiv/saarland.html
DTEND:20131110T003000
DTSTART:20131110T003000
UID:/content/rbb/rbb/doku/16xdeutschland/archiv/saarland
DTSTAMP:20140405T183317
DESCRIPTION:In Leidingen liegt die Grenze unsichtbar auf der Straße. 1,6 Kilometer lang ist die "Neutrale Straße", die Frankreich und Deutschland miteinander verbindet - oder trennt. Jeder hat da seine eigene Wahrheit in Leidingen, das auf französischer Seite Leiding heißt.\n \n
SUMMARY:Saarland
END:VEVENT
END:VCALENDAR
