BEGIN:VCALENDAR
X-WR-TIMEZONE:Europe/Berlin
X-WR-CALNAME:rbb-Kalender
VERSION:2.0
METHOD:PUBLISH
CALSCALE:GREGORIAN
PRODID:rbb-CMS DAY
BEGIN:VEVENT
CLASS:PUBLIC
URL:http://www.rbb-online.de/content/rbb/rbb/doku/16xdeutschland/archiv/sachsen.html
DTEND:20131109T230000
DTSTART:20131109T230000
UID:/content/rbb/rbb/doku/16xdeutschland/archiv/sachsen
DTSTAMP:20140405T183353
DESCRIPTION:Ein Sommer im Jahr 1987. Meine Heimatstadt Freiberg in Sachsen wurde 800 Jahre alt. Die Stadt erwachte und mit ihr die Menschen. Ich war 16. Die großen Ferien begannen. Und mir stieß etwas Unvergleichliches zu: meine erste Liebe.\n
SUMMARY:Sachsen
END:VEVENT
END:VCALENDAR
