BEGIN:VCALENDAR
X-WR-TIMEZONE:Europe/Berlin
X-WR-CALNAME:rbb-Kalender
VERSION:2.0
METHOD:PUBLISH
CALSCALE:GREGORIAN
PRODID:rbb-CMS DAY
BEGIN:VEVENT
CLASS:PUBLIC
URL:http://www.rbb-online.de/content/rbb/rbb/doku/a/Als-der-osten-durch.html
DTEND:20130820T210000
DTSTART:20130820T210000
UID:/content/rbb/rbb/doku/a/Als-der-osten-durch
DTSTAMP:20140408T063320
DESCRIPTION:Die erste Fernsehdokumentation über dieses politische, ökonomische und menschliche Kuriosum, sie erzählt ein nahezu unbeleuchtetes spannendes Kapitel Stadt und Zeitgeschichte.\n
SUMMARY:Als der Osten durch den Westen fuhr
END:VEVENT
END:VCALENDAR
