BEGIN:VCALENDAR
X-WR-TIMEZONE:Europe/Berlin
X-WR-CALNAME:rbb-Kalender
VERSION:2.0
METHOD:PUBLISH
CALSCALE:GREGORIAN
PRODID:rbb-CMS DAY
BEGIN:VEVENT
CLASS:PUBLIC
URL:http://www.rbb-online.de/content/rbb/rbb/doku/a/abenteuer-usedom/abenteuer-usedom.html
DTEND:20140418T201500
DTSTART:20140418T201500
UID:/content/rbb/rbb/doku/a/abenteuer-usedom/abenteuer-usedom
DTSTAMP:20140404T221419
DESCRIPTION:Sonne, Meer und Wind, mondäne Badeorte und kilometerlange Strände, ein Aal im Netz und ein Kiteboard unter den Füßen. Das Ziel seiner Reise ist verlockend: rbb-Moderator Sascha Hingst ist unterwegs von Berlin nach Usedom.\n\n\n
SUMMARY:Abenteuer Usedom - von Berlin ans Meer
END:VEVENT
END:VCALENDAR
