BEGIN:VCALENDAR
X-WR-TIMEZONE:Europe/Berlin
X-WR-CALNAME:rbb-Kalender
VERSION:2.0
METHOD:PUBLISH
CALSCALE:GREGORIAN
PRODID:rbb-CMS DAY
BEGIN:VEVENT
CLASS:PUBLIC
URL:http://www.rbb-online.de/content/rbb/rbb/doku/a/abenteuer_havel/abenteuer-havel.html
DTEND:20140502T201500
DTSTART:20140502T201500
UID:/content/rbb/rbb/doku/a/abenteuer_havel/abenteuer-havel
DTSTAMP:20140404T222114
DESCRIPTION:Ein Paradies für Wasserwanderer und Naturfreunde, für Angler und Radler - das ist die Havel. Moderator Sascha Hingst verbringt in dieser einzigartigen Flusslandschaft erlebnisreiche Urlaubstage.\n\n\n
SUMMARY:Abenteuer Havel
END:VEVENT
END:VCALENDAR
