BEGIN:VCALENDAR
X-WR-TIMEZONE:Europe/Berlin
X-WR-CALNAME:rbb-Kalender
VERSION:2.0
METHOD:PUBLISH
CALSCALE:GREGORIAN
PRODID:rbb-CMS DAY
BEGIN:VEVENT
CLASS:PUBLIC
URL:http://www.rbb-online.de/content/rbb/rbb/doku/a/am-frischen-haff.html
DTEND:20140125T140000
DTSTART:20140125T140000
UID:/content/rbb/rbb/doku/a/am-frischen-haff
DTSTAMP:20140407T130918
DESCRIPTION:Begegnungen in einem Land der leisen Töne. Rund um das Frische Haff scheinen die Uhren langsamer zu gehen als anderswo. Der Film hat wunderschöne Impressionen eines melancholischen Landes einfangen.\n
SUMMARY:Am Frischen Haff
END:VEVENT
END:VCALENDAR
