BEGIN:VCALENDAR
X-WR-TIMEZONE:Europe/Berlin
X-WR-CALNAME:rbb-Kalender
VERSION:2.0
METHOD:PUBLISH
CALSCALE:GREGORIAN
PRODID:rbb-CMS DAY
BEGIN:VEVENT
CLASS:PUBLIC
URL:http://www.rbb-online.de/content/rbb/rbb/doku/a/am_noerdlichen_ende.html
DTEND:20140113T221500
DTSTART:20140113T221500
UID:/content/rbb/rbb/doku/a/am_noerdlichen_ende
DTSTAMP:20140404T223419
DESCRIPTION:Ein Kamerateam des rbb besuchte Wissenschaftler des Potsdamer Alfred-Wegener-Instituts in Ny Ålesund auf Spitzbergen, dem letzten Dorf vor dem Nordpol. Seit 20 Jahren betreiben sie hier Polarforschung.\n
SUMMARY:Am nördlichen Ende der Welt
END:VEVENT
END:VCALENDAR
