BEGIN:VCALENDAR
X-WR-TIMEZONE:Europe/Berlin
X-WR-CALNAME:rbb-Kalender
VERSION:2.0
METHOD:PUBLISH
CALSCALE:GREGORIAN
PRODID:rbb-CMS DAY
BEGIN:VEVENT
CLASS:PUBLIC
URL:http://www.rbb-online.de/content/rbb/rbb/doku/b/berlin-berlin/gropiusstadt.html
DTEND:20131008T233000
DTSTART:20131008T233000
UID:/content/rbb/rbb/doku/b/berlin-berlin/gropiusstadt
DTSTAMP:20140408T063537
DESCRIPTION:Vor über 50 Jahren wurde der Grundstein für die Trabantenstadt mit dem Namen ihres berühmten Architekten Walter Gropius gelegt. Im Proletarierbezirk Neukölln sollte auf der grünen Wiese eine lebenswerte Großsiedlung entstehen. Die Gropiusstadt erlebt seitdem ein Auf und Ab ihres Images.\n
SUMMARY:Berlin, Berlin: Gropiusstadt - da leben wir
END:VEVENT
END:VCALENDAR
