BEGIN:VCALENDAR
X-WR-TIMEZONE:Europe/Berlin
X-WR-CALNAME:rbb-Kalender
VERSION:2.0
METHOD:PUBLISH
CALSCALE:GREGORIAN
PRODID:rbb-CMS DAY
BEGIN:VEVENT
CLASS:PUBLIC
URL:http://www.rbb-online.de/content/rbb/rbb/doku/b/berlin-berlin/leipziger-strasse.html
DTEND:20131022T231500
DTSTART:20131022T231500
UID:/content/rbb/rbb/doku/b/berlin-berlin/leipziger-strasse
DTSTAMP:20140408T063904
DESCRIPTION:In den Hochhäusern der Leipziger Straße gibt es etwa 2.000 Wohnungen ‑ hier leben junge Kreative, Künstler, Prominente aus Ost und West ‑ und viele Alteingesessene. Im Film erzählen sie von ihren Wünschen und Träumen, ihren Siegen und Niederlagen, ihren Ängsten und Hoffnungen.\n
SUMMARY:Berlin, Berlin: Leben in der Leipziger Straße
END:VEVENT
END:VCALENDAR
