BEGIN:VCALENDAR
X-WR-TIMEZONE:Europe/Berlin
X-WR-CALNAME:rbb-Kalender
VERSION:2.0
METHOD:PUBLISH
CALSCALE:GREGORIAN
PRODID:rbb-CMS DAY
BEGIN:VEVENT
CLASS:PUBLIC
URL:http://www.rbb-online.de/content/rbb/rbb/doku/b/berlin___ein_garten.html
DTEND:20130501T125000
DTSTART:20130501T125000
UID:/content/rbb/rbb/doku/b/berlin___ein_garten
DTSTAMP:20140407T130630
DESCRIPTION:Was an Berlin wirklich gut tut, wirkt inzwischen fast wie selbstverständlich: die vielen Parks und Schmuckplätze - jeder eine Welt für sich mit einem eigenen ästhetischem Konzept.
SUMMARY:Berlin - Ein Garten
END:VEVENT
END:VCALENDAR
