BEGIN:VCALENDAR
X-WR-TIMEZONE:Europe/Berlin
X-WR-CALNAME:rbb-Kalender
VERSION:2.0
METHOD:PUBLISH
CALSCALE:GREGORIAN
PRODID:rbb-CMS DAY
BEGIN:VEVENT
CLASS:PUBLIC
URL:http://www.rbb-online.de/content/rbb/rbb/doku/b/berlin_am_wasser.html
DTEND:20130520T144500
DTSTART:20130520T144500
UID:/content/rbb/rbb/doku/b/berlin_am_wasser
DTSTAMP:20140407T130536
DESCRIPTION:Berlin von der Wasserseite. Die Reportage ist ein Streifzug mit einem kleinen Boot durch die große Stadt auf Havel, Dahme und Spree.
SUMMARY:Berlin am Wasser
END:VEVENT
END:VCALENDAR
