BEGIN:VCALENDAR
X-WR-TIMEZONE:Europe/Berlin
X-WR-CALNAME:rbb-Kalender
VERSION:2.0
METHOD:PUBLISH
CALSCALE:GREGORIAN
PRODID:rbb-CMS DAY
BEGIN:VEVENT
CLASS:PUBLIC
URL:http://www.rbb-online.de/content/rbb/rbb/doku/b/berlin_parterre.html
DTEND:20130429T160500
DTSTART:20130429T160500
UID:/content/rbb/rbb/doku/b/berlin_parterre
DTSTAMP:20140407T130819
DESCRIPTION:Der Film wirft einen Blick hinter die Fassaden und trifft dabei auf ungewöhnliche Menschen – die letzten ihrer Art.\n
SUMMARY:Berlin Parterre
END:VEVENT
END:VCALENDAR
