BEGIN:VCALENDAR
X-WR-TIMEZONE:Europe/Berlin
X-WR-CALNAME:rbb-Kalender
VERSION:2.0
METHOD:PUBLISH
CALSCALE:GREGORIAN
PRODID:rbb-CMS DAY
BEGIN:VEVENT
CLASS:PUBLIC
URL:http://www.rbb-online.de/content/rbb/rbb/doku/c-d/curt_heinrich_dathe.html
DTEND:20140318T201500
DTSTART:20140318T201500
UID:/content/rbb/rbb/doku/c-d/curt_heinrich_dathe
DTSTAMP:20140404T221331
DESCRIPTION:Im Osten galt er 35 Jahre lang als populärster Tierparkdirektor, im Westen nannte man ihn den "Grzimek der DDR", denn er war ein Medienstar. Am 7. November 2010 wäre er 100 Jahre alt geworden.\n
SUMMARY:Curt Heinrich Dathe
END:VEVENT
END:VCALENDAR
