BEGIN:VCALENDAR
X-WR-TIMEZONE:Europe/Berlin
X-WR-CALNAME:rbb-Kalender
VERSION:2.0
METHOD:PUBLISH
CALSCALE:GREGORIAN
PRODID:rbb-CMS DAY
BEGIN:VEVENT
CLASS:PUBLIC
URL:http://www.rbb-online.de/content/rbb/rbb/doku/das/das-kurze-leben-des-chris-gueffroy.html
DTEND:20140204T224500
DTSTART:20140204T224500
UID:/content/rbb/rbb/doku/das/das-kurze-leben-des-chris-gueffroy
DTSTAMP:20140406T180011
DESCRIPTION:Er war der letzte, der beim Versuch, die Mauer zu überwinden, erschossen wurde, Anfang 1989. Chris Gueffroy war 20 Jahre alt, als er starb. Sein Name wurde zu einer Chiffre für das Sterben an der Mauer.\n
SUMMARY:Das kurze Leben des Chris Gueffroy
END:VEVENT
END:VCALENDAR
