BEGIN:VCALENDAR
X-WR-TIMEZONE:Europe/Berlin
X-WR-CALNAME:rbb-Kalender
VERSION:2.0
METHOD:PUBLISH
CALSCALE:GREGORIAN
PRODID:rbb-CMS DAY
BEGIN:VEVENT
CLASS:PUBLIC
URL:http://www.rbb-online.de/content/rbb/rbb/doku/das/das_berliner_olympiastadion.html
DTEND:20130826T221500
DTSTART:20130826T221500
UID:/content/rbb/rbb/doku/das/das_berliner_olympiastadion
DTSTAMP:20140404T223307
DESCRIPTION:Von den Anfängen im "Deutschen Stadion" im Jahr 1913 bis zur Fußball-Weltmeisterschaft 2006 - an keinem anderen Ort zeigt sich die wechselvolle Geschichte Berlins deutlicher.\n\n\n
SUMMARY: Das Berliner Olympiastadion
END:VEVENT
END:VCALENDAR
