BEGIN:VCALENDAR
X-WR-TIMEZONE:Europe/Berlin
X-WR-CALNAME:rbb-Kalender
VERSION:2.0
METHOD:PUBLISH
CALSCALE:GREGORIAN
PRODID:rbb-CMS DAY
BEGIN:VEVENT
CLASS:PUBLIC
URL:http://www.rbb-online.de/content/rbb/rbb/doku/der/der-potsdamer-telegrafenberg.html
DTEND:20131202T221500
DTSTART:20131202T221500
UID:/content/rbb/rbb/doku/der/der-potsdamer-telegrafenberg
DTSTAMP:20140404T223328
DESCRIPTION:Eine Wissenschaftsgeschichte\nEin kleiner eiszeitlicher Hügel südwestlich von Berlin scheint eine geheimnisvolle Anziehungskraft zu besitzen. Generationen von Wissenschaftlern haben ihn nicht nur erklommen, sondern auch als Ort des Forschens zu Weltruhm gebracht.\n
SUMMARY:Der Potsdamer Telegrafenberg
END:VEVENT
END:VCALENDAR
