BEGIN:VCALENDAR
X-WR-TIMEZONE:Europe/Berlin
X-WR-CALNAME:rbb-Kalender
VERSION:2.0
METHOD:PUBLISH
CALSCALE:GREGORIAN
PRODID:rbb-CMS DAY
BEGIN:VEVENT
CLASS:PUBLIC
URL:http://www.rbb-online.de/content/rbb/rbb/doku/der/der_23__mann___das.html
DTEND:20130728T223000
DTSTART:20130728T223000
UID:/content/rbb/rbb/doku/der/der_23__mann___das
DTSTAMP:20140408T003755
DESCRIPTION:rbb-Reporter Christoph Heymann hat drei Schiedsrichter ein halbes Jahr lang begleitet. Er erlebte, wie sie von Spielern, Trainern und Zuschauern angegangen werden, welchen Druck sie spüren, und warum die Schiedsrichterei für sie trotzdem das schönste Hobby ist.\n
SUMMARY:Der 23. Mann – Das harte Leben der Amateurschiedsrichter
END:VEVENT
END:VCALENDAR
