BEGIN:VCALENDAR
X-WR-TIMEZONE:Europe/Berlin
X-WR-CALNAME:rbb-Kalender
VERSION:2.0
METHOD:PUBLISH
CALSCALE:GREGORIAN
PRODID:rbb-CMS DAY
BEGIN:VEVENT
CLASS:PUBLIC
URL:http://www.rbb-online.de/content/rbb/rbb/doku/der/der_tag__als_ich_erschossen.html
DTEND:20130827T224500
DTSTART:20130827T224500
UID:/content/rbb/rbb/doku/der/der_tag__als_ich_erschossen
DTSTAMP:20140408T063256
DESCRIPTION:In dem Film erinnern sich Polen an den deutschen Überfall am 1. September 1939.\n
SUMMARY:Der Tag, als ich erschossen wurde
END:VEVENT
END:VCALENDAR
