BEGIN:VCALENDAR
X-WR-TIMEZONE:Europe/Berlin
X-WR-CALNAME:rbb-Kalender
VERSION:2.0
METHOD:PUBLISH
CALSCALE:GREGORIAN
PRODID:rbb-CMS DAY
BEGIN:VEVENT
CLASS:PUBLIC
URL:http://www.rbb-online.de/content/rbb/rbb/doku/die/die-wiedergeburt-des-bernsteinzimmers.html
DTEND:20140217T230000
DTSTART:20140217T221500
UID:/content/rbb/rbb/doku/die/die-wiedergeburt-des-bernsteinzimmers
DTSTAMP:20140404T223140
DESCRIPTION:Fast 20 Jahre lang haben 50 russische Kunsthandwerker daran gearbeitet, ein neues Bernsteinzimmer zu erschaffen. Eine getreue Kopie des verschollenen Originals sollte es werden, dessen Spur sich in den Kriegswirren des Jahres 1945 in Königsberg verliert.\n\n\n
SUMMARY:Die Wiedergeburt des Bernsteinzimmers
END:VEVENT
END:VCALENDAR
