BEGIN:VCALENDAR
X-WR-TIMEZONE:Europe/Berlin
X-WR-CALNAME:rbb-Kalender
VERSION:2.0
METHOD:PUBLISH
CALSCALE:GREGORIAN
PRODID:rbb-CMS DAY
BEGIN:VEVENT
CLASS:PUBLIC
URL:http://www.rbb-online.de/content/rbb/rbb/doku/die/ostlegenden-puhdys.html
DTEND:20131203T224500
DTSTART:20131203T224500
UID:/content/rbb/rbb/doku/die/ostlegenden-puhdys
DTSTAMP:20140408T004539
DESCRIPTION:Der Film begibt sich auf die Suche nach dem Geheimnis ihres künstlerischen Erfolgs und lässt Fans und Mitstreiter und Kollegen aus Ost und West zu Wort kommen. \n
SUMMARY:Die Puhdys
END:VEVENT
END:VCALENDAR
