BEGIN:VCALENDAR
X-WR-TIMEZONE:Europe/Berlin
X-WR-CALNAME:rbb-Kalender
VERSION:2.0
METHOD:PUBLISH
CALSCALE:GREGORIAN
PRODID:rbb-CMS DAY
BEGIN:VEVENT
CLASS:PUBLIC
URL:http://www.rbb-online.de/content/rbb/rbb/doku/die_rbb_reporter/beitraege/Brandenburgs_OEkolandwirte_unter_Druck.html
DTEND:20130604T210000
DTSTART:20130604T210000
UID:/content/rbb/rbb/doku/die_rbb_reporter/beitraege/Brandenburgs_OEkolandwirte_unter_Druck
DTSTAMP:20140405T044139
DESCRIPTION:Der rbb Reporter Peter Podjavorsek geht in Brandenburg und Berlin, auf dem Land und in der Großstadt, den Ursachen des Auseinanderdriftens von Bionachfrage und Bioproduktion nach.\n
SUMMARY:Biogas statt Biobrot?
END:VEVENT
END:VCALENDAR
