BEGIN:VCALENDAR
X-WR-TIMEZONE:Europe/Berlin
X-WR-CALNAME:rbb-Kalender
VERSION:2.0
METHOD:PUBLISH
CALSCALE:GREGORIAN
PRODID:rbb-CMS DAY
BEGIN:VEVENT
CLASS:PUBLIC
URL:http://www.rbb-online.de/content/rbb/rbb/doku/die_rbb_reporter/beitraege/Von-schlauen-huehnern-und-echten-landeiern.html
DTEND:20140419T183000
DTSTART:20140419T183000
UID:/content/rbb/rbb/doku/die_rbb_reporter/beitraege/Von-schlauen-huehnern-und-echten-landeiern
DTSTAMP:20140408T231933
DESCRIPTION:Zu  Ostern, wenn alles anfängt zu blühen und überall frische Blumen und Osterschmuck präsentiert werden, dann ist sie besonders groß: Die Sehnsucht nach dem einfachen Landleben.\n
SUMMARY:Von schlauen Hühnern und echten Landeiern
END:VEVENT
END:VCALENDAR
