BEGIN:VCALENDAR
X-WR-TIMEZONE:Europe/Berlin
X-WR-CALNAME:rbb-Kalender
VERSION:2.0
METHOD:PUBLISH
CALSCALE:GREGORIAN
PRODID:rbb-CMS DAY
BEGIN:VEVENT
CLASS:PUBLIC
URL:http://www.rbb-online.de/content/rbb/rbb/doku/die_rbb_reporter/beitraege/bello-in-der-hunde-kita.html
DTEND:20140315T183000
DTSTART:20140315T183000
UID:/content/rbb/rbb/doku/die_rbb_reporter/beitraege/bello-in-der-hunde-kita
DTSTAMP:20140404T221950
DESCRIPTION:Berufstätige Hundebesitzer kennen das Dilemma. Wohin mit dem Liebling während der Arbeitszeit?\n\n\n
SUMMARY:Bello in der Hunde-Kita
END:VEVENT
END:VCALENDAR
