BEGIN:VCALENDAR
X-WR-TIMEZONE:Europe/Berlin
X-WR-CALNAME:rbb-Kalender
VERSION:2.0
METHOD:PUBLISH
CALSCALE:GREGORIAN
PRODID:rbb-CMS DAY
BEGIN:VEVENT
CLASS:PUBLIC
URL:http://www.rbb-online.de/content/rbb/rbb/doku/die_rbb_reporter/beitraege/berlin-teilt.html
DTEND:20140125T154500
DTSTART:20140125T154500
UID:/content/rbb/rbb/doku/die_rbb_reporter/beitraege/berlin-teilt
DTSTAMP:20140405T043346
DESCRIPTION:Teilen statt kaufen. Diese Idee erobert die Wirtschaft. Bekanntes Beispiel ist das Carsharing. Doch man kann noch viel mehr teilen als nur Autos.\n\n\n
SUMMARY:Berlin teilt
END:VEVENT
END:VCALENDAR
