BEGIN:VCALENDAR
X-WR-TIMEZONE:Europe/Berlin
X-WR-CALNAME:rbb-Kalender
VERSION:2.0
METHOD:PUBLISH
CALSCALE:GREGORIAN
PRODID:rbb-CMS DAY
BEGIN:VEVENT
CLASS:PUBLIC
URL:http://www.rbb-online.de/content/rbb/rbb/doku/die_rbb_reporter/beitraege/der-gaensebraten-test.html
DTEND:20131223T110000
DTSTART:20131223T110000
UID:/content/rbb/rbb/doku/die_rbb_reporter/beitraege/der-gaensebraten-test
DTSTAMP:20140405T043959
DESCRIPTION:Weihnachten und Gänsebraten gehören für die meisten Deutschen zusammen. Eine besonders große Bedeutung hat der Gänsebraten für die Brandenburger Gastronomen. Einzelne Gasthöfe verkaufen hier in einer Saison rund 700 Gänse.\n
SUMMARY:Der Gänsebraten-Test
END:VEVENT
END:VCALENDAR
