BEGIN:VCALENDAR
X-WR-TIMEZONE:Europe/Berlin
X-WR-CALNAME:rbb-Kalender
VERSION:2.0
METHOD:PUBLISH
CALSCALE:GREGORIAN
PRODID:rbb-CMS DAY
BEGIN:VEVENT
CLASS:PUBLIC
URL:http://www.rbb-online.de/content/rbb/rbb/doku/die_rbb_reporter/beitraege/die_rbb_reporter_4.html
DTEND:20130611T211500
DTSTART:20130611T211500
UID:/content/rbb/rbb/doku/die_rbb_reporter/beitraege/die_rbb_reporter_4
DTSTAMP:20140405T043450
DESCRIPTION:rbb-Reporterin Friederike Schlumbom begleitet Macher und Mäzene, Gegner und Unterstützer des Projekts in den letzten Wochen vor der Grundsteinlegung.\n
SUMMARY:Wir bauen ein Schloss
END:VEVENT
END:VCALENDAR
