BEGIN:VCALENDAR
X-WR-TIMEZONE:Europe/Berlin
X-WR-CALNAME:rbb-Kalender
VERSION:2.0
METHOD:PUBLISH
CALSCALE:GREGORIAN
PRODID:rbb-CMS DAY
BEGIN:VEVENT
CLASS:PUBLIC
URL:http://www.rbb-online.de/content/rbb/rbb/doku/die_rbb_reporter/beitraege/die_rbb_reporter_5.html
DTEND:20130615T183200
DTSTART:20130615T183200
UID:/content/rbb/rbb/doku/die_rbb_reporter/beitraege/die_rbb_reporter_5
DTSTAMP:20140405T044240
DESCRIPTION:In der Altstadt von Mühlberg ist es ganz still. Beim Pegelstand von 9,88 m haben die meisten Bewohner die Altstadt verlassen. Die Deiche in der Stadt sind auf 10 m Wasserhöhe angelegt.\n
SUMMARY:Die Flüsse, die Deiche und die Menschen
END:VEVENT
END:VCALENDAR
