BEGIN:VCALENDAR
X-WR-TIMEZONE:Europe/Berlin
X-WR-CALNAME:rbb-Kalender
VERSION:2.0
METHOD:PUBLISH
CALSCALE:GREGORIAN
PRODID:rbb-CMS DAY
BEGIN:VEVENT
CLASS:PUBLIC
URL:http://www.rbb-online.de/content/rbb/rbb/doku/die_rbb_reporter/beitraege/karpfen-blau.html
DTEND:20131228T190000
DTSTART:20131228T183200
UID:/content/rbb/rbb/doku/die_rbb_reporter/beitraege/karpfen-blau
DTSTAMP:20140405T044031
DESCRIPTION:Die Reportage erzählt von Mönchen, die den Fisch einst im Brandenburgischen gesellschaftsfähig machten, von einem Landstrich, wo man ihn samt Gräten verspeist.\n\n\n
SUMMARY:Karpfen Blau
END:VEVENT
END:VCALENDAR
