BEGIN:VCALENDAR
X-WR-TIMEZONE:Europe/Berlin
X-WR-CALNAME:rbb-Kalender
VERSION:2.0
METHOD:PUBLISH
CALSCALE:GREGORIAN
PRODID:rbb-CMS DAY
BEGIN:VEVENT
CLASS:PUBLIC
URL:http://www.rbb-online.de/content/rbb/rbb/doku/die_rbb_reporter/beitraege/kleine-sammlung.html
DTEND:20130619T141500
DTSTART:20130619T141500
UID:/content/rbb/rbb/doku/die_rbb_reporter/beitraege/kleine-sammlung
DTSTAMP:20140405T043311
DESCRIPTION:Die rbb Reporter stellen kleine Museen vor, die viele Berlinerinnen und Berliner noch gar nicht kennen.\n
SUMMARY:Die kleine Sammlung
END:VEVENT
END:VCALENDAR
