BEGIN:VCALENDAR
X-WR-TIMEZONE:Europe/Berlin
X-WR-CALNAME:rbb-Kalender
VERSION:2.0
METHOD:PUBLISH
CALSCALE:GREGORIAN
PRODID:rbb-CMS DAY
BEGIN:VEVENT
CLASS:PUBLIC
URL:http://www.rbb-online.de/content/rbb/rbb/doku/die_rbb_reporter/beitraege/leinen-los-zwei.html
DTEND:20130817T183200
DTSTART:20130817T183200
UID:/content/rbb/rbb/doku/die_rbb_reporter/beitraege/leinen-los-zwei
DTSTAMP:20140405T044320
DESCRIPTION:Ein Sommer auf dem Wasser ‑ was will man mehr? Viele Berlinerinnen und Brandenburger erleben das auch mit dem eigenen Kahn. In der dreiteiligen Reportage begleiten "Die rbb Reporter" die Freizeitkapitäne. Ihre Heimathäfen liegen auf der Halbinsel Stralau und in Himmelpfort. In Teil 2 soll ein rätselhafter Schatz gehoben werden.\n
SUMMARY:Leinen los!
END:VEVENT
END:VCALENDAR
